BEGIN:VCALENDAR
VERSION:2.0
PRODID:-//Parc naturel Hautes Fagnes-Eifel - ECPv6.15.20//NONSGML v1.0//EN
CALSCALE:GREGORIAN
METHOD:PUBLISH
X-ORIGINAL-URL:https://botrange.be/de/
X-WR-CALDESC:Veranstaltungen für Parc naturel Hautes Fagnes-Eifel
REFRESH-INTERVAL;VALUE=DURATION:PT1H
X-Robots-Tag:noindex
X-PUBLISHED-TTL:PT1H
BEGIN:VTIMEZONE
TZID:Europe/Brussels
BEGIN:DAYLIGHT
TZOFFSETFROM:+0100
TZOFFSETTO:+0200
TZNAME:CEST
DTSTART:20240331T010000
END:DAYLIGHT
BEGIN:STANDARD
TZOFFSETFROM:+0200
TZOFFSETTO:+0100
TZNAME:CET
DTSTART:20241027T010000
END:STANDARD
BEGIN:DAYLIGHT
TZOFFSETFROM:+0100
TZOFFSETTO:+0200
TZNAME:CEST
DTSTART:20250330T010000
END:DAYLIGHT
BEGIN:STANDARD
TZOFFSETFROM:+0200
TZOFFSETTO:+0100
TZNAME:CET
DTSTART:20251026T010000
END:STANDARD
BEGIN:DAYLIGHT
TZOFFSETFROM:+0100
TZOFFSETTO:+0200
TZNAME:CEST
DTSTART:20260329T010000
END:DAYLIGHT
BEGIN:STANDARD
TZOFFSETFROM:+0200
TZOFFSETTO:+0100
TZNAME:CET
DTSTART:20261025T010000
END:STANDARD
END:VTIMEZONE
BEGIN:VEVENT
DTSTART;TZID=Europe/Brussels:20250611T190000
DTEND;TZID=Europe/Brussels:20250611T190000
DTSTAMP:20260419T173732
CREATED:20250514T144122Z
LAST-MODIFIED:20250515T065118Z
UID:14464-1749668400-1749668400@botrange.be
SUMMARY:Dach- und Fassadenbegrünung: Infoabend & Wettbewerb
DESCRIPTION:Möchten Sie Ihre Umgebung grüner gestalten und aktiv etwas für Klima\, Umwelt und Lebensqualität tun? Dann laden wir Sie herzlich zu unserem Infoabend ein – und zur Teilnahme am Wettbewerb für begrünte Gebäude und öffentliche Räume!\n\n\n\n\nMittwoch\, 11. Juni 2025 – 19 Uhr\nWFG Ostbelgien\, Quartum Center\, Hütte 79\, Eupen\n\n\n\n\nWas Sie erwartet:\n– Fachvorträge zu ökologischen\, klimatischen und gestalterischen Aspekten\n– Inspirierende Praxisbeispiele aus der Region\n– Informationen zur Energieprämie der DG\n– Vorstellung des neuen Wettbewerbs „Dach- und Fassadenbegrünung“\n\n\n\n\nMachen Sie mit beim Wettbewerb!\nGesucht werden Gruppen\, die gemeinsam Gebäude oder öffentliche Orte begrünen – z. B. Jugendgruppen\, Vereine\, Nachbarschaften\, Bildungseinrichtungen…\n\n\n\n\nDie überzeugendsten Projekte erhalten:\n– Eine finanzielle Förderung von bis zu 2.500 €\n– Fachliche Beratung durch den Naturpark Hohes Venn–Eifel\n\n\n\n\nBitte melden Sie sich bis 05.06.2025 zum Infoabend an:\n– anmeldung@wfg.be oder 087/568201\n\n\n\n\nGemeinsam machen wir Ostbelgien grüner\, nachhaltiger und lebenswerter!
URL:https://botrange.be/de/event/dach-und-fassadenbegrunung-infoabend-wettbewerb/
LOCATION:WFG Ostbelgien\, Quartum Center\, Hütte 79\, Eupen\, Belgium
ATTACH;FMTTYPE=image/jpeg:https://botrange.be/wp-content/uploads/2025/05/20250513_Flyer_page-0001.jpg
END:VEVENT
END:VCALENDAR